BEGIN:VCALENDAR
VERSION:2.0
CALSCALE:GREGORIAN
BEGIN:VEVENT
DTSTAMP:20260424T062042
DTSTART:20260523T100000
DTEND:20260523T120000
SUMMARY:Big Bottle Rock At ZD Wines
DESCRIPTION:Event Info: https://www.localwineevents.com/view/event/big-bottle-rock-at-zd-wines/999999
LOCATION:ZD Wines -- 8383 Silverado Trail Napa, CA 94558
STATUS:CONFIRMED
SEQUENCE:0
TRANSP:OPAQUE
END:VEVENT
END:VCALENDAR
