BEGIN:VCALENDAR
VERSION:2.0
CALSCALE:GREGORIAN
BEGIN:VEVENT
DTSTAMP:20260424T062100
DTSTART:20260507T173000
DTEND:20260507T190000
SUMMARY:May We11ness Experience: Intellectual
DESCRIPTION:Event Info: https://www.localwineevents.com/view/event/may-we11ness-experience-intellectual/999994
LOCATION:Eleven Eleven Wines -- 620 Trancas Street Napa, CA 94558
STATUS:CONFIRMED
SEQUENCE:0
TRANSP:OPAQUE
END:VEVENT
END:VCALENDAR
