BEGIN:VCALENDAR
VERSION:2.0
CALSCALE:GREGORIAN
BEGIN:VEVENT
DTSTAMP:20260424T062102
DTSTART:20260508T160000
DTEND:20260508T180000
SUMMARY:Aresta Winery Open House
DESCRIPTION:Event Info: https://www.localwineevents.com/view/event/aresta-winery-open-house/999993
LOCATION:Artesa Vineyards  Winery -- 1345 Henry Road Napa, CA 94559
STATUS:CONFIRMED
SEQUENCE:0
TRANSP:OPAQUE
END:VEVENT
END:VCALENDAR
