BEGIN:VCALENDAR
VERSION:2.0
CALSCALE:GREGORIAN
BEGIN:VEVENT
DTSTAMP:20260424T062103
DTSTART:20260509T113000
DTEND:20260509T143000
SUMMARY:Penfolds Mothers Day Garden Celebration: Where Love Blooms
DESCRIPTION:Event Info: https://www.localwineevents.com/view/event/penfolds-mothers-day-garden-celebration-where-love-blooms/999992
LOCATION:Penfolds -- 443 Brown St Napa, CA 94559
STATUS:CONFIRMED
SEQUENCE:0
TRANSP:OPAQUE
END:VEVENT
END:VCALENDAR
