BEGIN:VCALENDAR
VERSION:2.0
CALSCALE:GREGORIAN
BEGIN:VEVENT
DTSTAMP:20260420T143632
DTSTART:20260522T170000
DTEND:20260522T200000
SUMMARY:Pizza Night - Duplicate
DESCRIPTION:Event Info: https://www.localwineevents.com/view/event/pizza-night---duplicate/999990
LOCATION:Turkovich Family Wines -- 30471 Buckeye Road Winters, CA 95694
STATUS:CONFIRMED
SEQUENCE:0
TRANSP:OPAQUE
END:VEVENT
END:VCALENDAR
