BEGIN:VCALENDAR
VERSION:2.0
CALSCALE:GREGORIAN
BEGIN:VEVENT
DTSTAMP:20260420T143633
DTSTART:20260502T130000
DTEND:20260502T180000
SUMMARY:Kentucky Derby Party
DESCRIPTION:Event Info: https://www.localwineevents.com/view/event/kentucky-derby-party/999989
LOCATION:Turkovich Family Wines -- 30471 Buckeye Road Winters, CA 95694
STATUS:CONFIRMED
SEQUENCE:0
TRANSP:OPAQUE
END:VEVENT
END:VCALENDAR
