BEGIN:VCALENDAR
VERSION:2.0
CALSCALE:GREGORIAN
BEGIN:VEVENT
DTSTAMP:20260424T062059
DTSTART:20260517T130000
DTEND:20260517T150000
SUMMARY:Spring Wine Release Party
DESCRIPTION:Event Info: https://www.localwineevents.com/view/event/spring-wine-release-party/999988
LOCATION:Baldacci Family Vineyards -- 6236 Silverado Trail Napa, CA 94558
STATUS:CONFIRMED
SEQUENCE:0
TRANSP:OPAQUE
END:VEVENT
END:VCALENDAR
