BEGIN:VCALENDAR
VERSION:2.0
CALSCALE:GREGORIAN
BEGIN:VEVENT
DTSTAMP:20260424T062042
DTSTART:20260530T130000
DTEND:20260530T160000
SUMMARY:The Judgment Of Paris 50th Anniversary Celebration
DESCRIPTION:Event Info: https://www.localwineevents.com/view/event/the-judgment-of-paris-50th-anniversary-celebration/999985
LOCATION:Grgich Hills Estate -- 1829 Saint Helena Highway South St. Helena, CA 94574
STATUS:CONFIRMED
SEQUENCE:0
TRANSP:OPAQUE
END:VEVENT
END:VCALENDAR
