BEGIN:VCALENDAR
VERSION:2.0
CALSCALE:GREGORIAN
BEGIN:VEVENT
DTSTAMP:20260424T062102
DTSTART:20260516T173000
DTEND:20260516T203000
SUMMARY:Winemaker\'s Library Dinner - May 2026
DESCRIPTION:Event Info: https://www.localwineevents.com/view/event/winemakers-library-dinner---may-2026/999984
LOCATION:Grgich Hills Estate -- 1829 Saint Helena Highway South St. Helena, CA 94574
STATUS:CONFIRMED
SEQUENCE:0
TRANSP:OPAQUE
END:VEVENT
END:VCALENDAR
