BEGIN:VCALENDAR
VERSION:2.0
CALSCALE:GREGORIAN
BEGIN:VEVENT
DTSTAMP:20260424T062042
DTSTART:20260502T100000
DTEND:20260502T113000
SUMMARY:Chardonnay Masterclass With Violet Grgich And Ivo Jeramaz
DESCRIPTION:Event Info: https://www.localwineevents.com/view/event/chardonnay-masterclass-with-violet-grgich-and-ivo-jeramaz/999983
LOCATION:Grgich Hills Estate -- 1829 Saint Helena Highway South St. Helena, CA 94574
STATUS:CONFIRMED
SEQUENCE:0
TRANSP:OPAQUE
END:VEVENT
END:VCALENDAR
