BEGIN:VCALENDAR
VERSION:2.0
CALSCALE:GREGORIAN
BEGIN:VEVENT
DTSTAMP:20260424T062103
DTSTART:20260604T170000
DTEND:20260604T193000
SUMMARY:Taste Of The Mountains At The Ritz-Carlton, Half Moon Bay
DESCRIPTION:Event Info: https://www.localwineevents.com/view/event/taste-of-the-mountains-at-the-ritz-carlton-half-moon-bay/999979
LOCATION:The Ritz-Carlton, Half Moon Bay -- 1 Miramontes Point Rd Half Moon Bay, CA 94019
STATUS:CONFIRMED
SEQUENCE:0
TRANSP:OPAQUE
END:VEVENT
END:VCALENDAR
