BEGIN:VCALENDAR
VERSION:2.0
CALSCALE:GREGORIAN
BEGIN:VEVENT
DTSTAMP:20260422T234015
DTSTART:20260425T190000
DTEND:20260425T220000
SUMMARY:Dunhill Charity Wine Tasting
DESCRIPTION:Event Info: https://www.localwineevents.com/view/event/dunhill-charity-wine-tasting/999893
LOCATION:Orlando Mini Cooper -- 350 S. Lake Destiny Drive. Orlando, FL 32810
STATUS:CONFIRMED
SEQUENCE:0
TRANSP:OPAQUE
END:VEVENT
END:VCALENDAR
