BEGIN:VCALENDAR
VERSION:2.0
CALSCALE:GREGORIAN
BEGIN:VEVENT
DTSTAMP:20260420T175736
DTSTART:20260411T120000
DTEND:20260711T143000
SUMMARY:Live Music Saturdays At Four Sisters Ranch Vineyards And Winery
DESCRIPTION:Event Info: https://www.localwineevents.com/view/event/live-music-saturdays-at-four-sisters-ranch-vineyards-and-winery/999888
LOCATION:Four Sisters Ranch Vineyards  Winery -- 2995 Pleasant Rd San Miguel, CA 93451
STATUS:CONFIRMED
SEQUENCE:0
TRANSP:OPAQUE
END:VEVENT
END:VCALENDAR
