BEGIN:VCALENDAR
VERSION:2.0
CALSCALE:GREGORIAN
BEGIN:VEVENT
DTSTAMP:20260420T175659
DTSTART:20260523T110000
DTEND:20260523T170000
SUMMARY:6th Annual Spring Wine, Music, Food  Art Fest
DESCRIPTION:Event Info: https://www.localwineevents.com/view/event/6th-annual-spring-wine-music-food-art-fest/999887
LOCATION:Four Sisters Ranch Vineyards  Winery -- 2995 Pleasant Rd San Miguel, CA 93451
STATUS:CONFIRMED
SEQUENCE:0
TRANSP:OPAQUE
END:VEVENT
END:VCALENDAR
