BEGIN:VCALENDAR
VERSION:2.0
CALSCALE:GREGORIAN
BEGIN:VEVENT
DTSTAMP:20260420T175701
DTSTART:20260425T110000
DTEND:20260426T170000
SUMMARY:Wine4Paws Weekend
DESCRIPTION:Event Info: https://www.localwineevents.com/view/event/wine4paws-weekend/999885
LOCATION:Four Sisters Ranch Vineyards  Winery -- 2995 Pleasant Rd San Miguel, CA 93451
STATUS:CONFIRMED
SEQUENCE:0
TRANSP:OPAQUE
END:VEVENT
END:VCALENDAR
