BEGIN:VCALENDAR
VERSION:2.0
CALSCALE:GREGORIAN
BEGIN:VEVENT
DTSTAMP:20260421T164727
DTSTART:20260530T140000
DTEND:20260530T160000
SUMMARY:Wine Society Of Texas DFW Chapter Presents:  An Inwood Estates Tasting
DESCRIPTION:Event Info: https://www.localwineevents.com/view/event/wine-society-of-texas-dfw-chapter-presents-an-inwood-estates-tasting/999873
LOCATION:Inwood Wine Estates -- 1350 Manufacturing St. #209 Dallas, Texas 75207
STATUS:CONFIRMED
SEQUENCE:0
TRANSP:OPAQUE
END:VEVENT
END:VCALENDAR
