BEGIN:VCALENDAR
VERSION:2.0
CALSCALE:GREGORIAN
BEGIN:VEVENT
DTSTAMP:20260421T164727
DTSTART:20260425T140000
DTEND:20260425T160000
SUMMARY:Wine Society Of Texas DFW Chapter Presents: A Taste Of The Mediterranean
DESCRIPTION:Event Info: https://www.localwineevents.com/view/event/wine-society-of-texas-dfw-chapter-presents-a-taste-of-the-mediterranean/999871
LOCATION:Neighborhood Wine -- 1257 W Magnolia Ave Fort Worth, Texas 76104
STATUS:CONFIRMED
SEQUENCE:0
TRANSP:OPAQUE
END:VEVENT
END:VCALENDAR
