BEGIN:VCALENDAR
VERSION:2.0
CALSCALE:GREGORIAN
BEGIN:VEVENT
DTSTAMP:20260420T143805
DTSTART:20260426T123000
DTEND:20260426T160000
SUMMARY:Cheesemaking - Italian Trifecta: Ricotta Mozzarella  Parmesan
DESCRIPTION:Event Info: https://www.localwineevents.com/view/event/cheesemaking---italian-trifecta-ricotta-mozzarella-parmesan/999865
LOCATION:Scratch Made Life Kitchen -- 4932 SHADY LEAF WAY Sacramento, CA 95838
STATUS:CONFIRMED
SEQUENCE:0
TRANSP:OPAQUE
END:VEVENT
END:VCALENDAR
