BEGIN:VCALENDAR
VERSION:2.0
CALSCALE:GREGORIAN
BEGIN:VEVENT
DTSTAMP:20260421T163956
DTSTART:20260426T100000
DTEND:20260426T120000
SUMMARY:WRC Brew Lab - COFFEE TASTING EXPERIENCE
DESCRIPTION:Event Info: https://www.localwineevents.com/view/event/wrc-brew-lab---coffee-tasting-experience/999848
LOCATION:WRC Brew Lab -- 10109 East Northwest Highway Dallas, TX 75238
STATUS:CONFIRMED
SEQUENCE:0
TRANSP:OPAQUE
END:VEVENT
END:VCALENDAR
