BEGIN:VCALENDAR
VERSION:2.0
CALSCALE:GREGORIAN
BEGIN:VEVENT
DTSTAMP:20260422T192714
DTSTART:20260426T140000
DTEND:20260426T160000
SUMMARY:Talk  Tea
DESCRIPTION:Event Info: https://www.localwineevents.com/view/event/talk-tea/999844
LOCATION:Spring Hill -- 2080 RedJacket Trce. ( Outer Court) Spring Hill, TN 37174
STATUS:CONFIRMED
SEQUENCE:0
TRANSP:OPAQUE
END:VEVENT
END:VCALENDAR
