BEGIN:VCALENDAR
VERSION:2.0
CALSCALE:GREGORIAN
BEGIN:VEVENT
DTSTAMP:20260419T122600
DTSTART:20260426T170000
DTEND:20260426T190000
SUMMARY:Tequila  The Five Elements: Fire  Earth  Water  Air  Spirit
DESCRIPTION:Event Info: https://www.localwineevents.com/view/event/tequila-the-five-elements-fire-earth-water-air-spirit/999841
LOCATION:2541 E Sunrise Blvd -- 2541 East Sunrise Boulevard Fort Lauderdale, FL 33304
STATUS:CONFIRMED
SEQUENCE:0
TRANSP:OPAQUE
END:VEVENT
END:VCALENDAR
