BEGIN:VCALENDAR
VERSION:2.0
CALSCALE:GREGORIAN
BEGIN:VEVENT
DTSTAMP:20260420T143632
DTSTART:20260426T100000
DTEND:20260426T120000
SUMMARY:Cheesemaking 201 - Intermediate To Advanced Techniques
DESCRIPTION:Event Info: https://www.localwineevents.com/view/event/cheesemaking-201---intermediate-to-advanced-techniques/999787
LOCATION:4932 Shady Leaf Way, Sacramento, CA 95838-1843, United States -- 4932 Shady Leaf Way Sacramento, CA 95838
STATUS:CONFIRMED
SEQUENCE:0
TRANSP:OPAQUE
END:VEVENT
END:VCALENDAR
