BEGIN:VCALENDAR
VERSION:2.0
CALSCALE:GREGORIAN
BEGIN:VEVENT
DTSTAMP:20260421T062126
DTSTART:20260426T140000
DTEND:20260426T180000
SUMMARY:Cake Therapy Dessert Experience: A Fundraising Evening Of Desserts
DESCRIPTION:Event Info: https://www.localwineevents.com/view/event/cake-therapy-dessert-experience-a-fundraising-evening-of-desserts/999784
LOCATION:Black Business Enterprises -- 1128 Harmon Place Minneapolis, MN 55403
STATUS:CONFIRMED
SEQUENCE:0
TRANSP:OPAQUE
END:VEVENT
END:VCALENDAR
