BEGIN:VCALENDAR
VERSION:2.0
CALSCALE:GREGORIAN
BEGIN:VEVENT
DTSTAMP:20260422T234015
DTSTART:20260426T173000
DTEND:20260426T193000
SUMMARY:The Olive Oil Expos: Discover The Truth About Olive Oil
DESCRIPTION:Event Info: https://www.localwineevents.com/view/event/the-olive-oil-expos-discover-the-truth-about-olive-oil/999782
LOCATION:The Ancient Olive Gourmet of Winter Park -- 324 North Park Avenue Winter Park, FL 32789
STATUS:CONFIRMED
SEQUENCE:0
TRANSP:OPAQUE
END:VEVENT
END:VCALENDAR
