BEGIN:VCALENDAR
VERSION:2.0
CALSCALE:GREGORIAN
BEGIN:VEVENT
DTSTAMP:20260420T144606
DTSTART:20260426T140000
DTEND:20260426T160000
SUMMARY:PBS KVIE Chili Cook-Off
DESCRIPTION:Event Info: https://www.localwineevents.com/view/event/pbs-kvie-chili-cook-off/999781
LOCATION:PBS KVIE -- 2030 West El Camino Avenue Sacramento, CA 95833
STATUS:CONFIRMED
SEQUENCE:0
TRANSP:OPAQUE
END:VEVENT
END:VCALENDAR
