BEGIN:VCALENDAR
VERSION:2.0
CALSCALE:GREGORIAN
BEGIN:VEVENT
DTSTAMP:20260421T163951
DTSTART:20260426T190000
DTEND:20260426T210000
SUMMARY:The Humble Potato: A 10-Course Tasting Experience
DESCRIPTION:Event Info: https://www.localwineevents.com/view/event/the-humble-potato-a-10-course-tasting-experience/999768
LOCATION:2919 Canton St -- 2919 Canton Street Dallas, TX 75226
STATUS:CONFIRMED
SEQUENCE:0
TRANSP:OPAQUE
END:VEVENT
END:VCALENDAR
