BEGIN:VCALENDAR
VERSION:2.0
CALSCALE:GREGORIAN
BEGIN:VEVENT
DTSTAMP:20260420T074428
DTSTART:20260426T120000
DTEND:20260426T150000
SUMMARY:Let\'s Roll! Make-Your-Own Sushi Class | Sunday, April 26th 12pm To 3pm
DESCRIPTION:Event Info: https://www.localwineevents.com/view/event/lets-roll-make-your-own-sushi-class-sunday-april-26th-12pm-to-3pm/999733
LOCATION:Tippy Creek Winery -- 5920 N 200 E Leesburg, IN 46538
STATUS:CONFIRMED
SEQUENCE:0
TRANSP:OPAQUE
END:VEVENT
END:VCALENDAR
