BEGIN:VCALENDAR
VERSION:2.0
CALSCALE:GREGORIAN
BEGIN:VEVENT
DTSTAMP:20260421T163956
DTSTART:20260426T150000
DTEND:20260426T190000
SUMMARY:Brews  Bites: The Ultimate Coffee  Chocolate Expo
DESCRIPTION:Event Info: https://www.localwineevents.com/view/event/brews-bites-the-ultimate-coffee-chocolate-expo/999725
LOCATION:2919 Canton St -- 2919 Canton Street Dallas, TX 75226
STATUS:CONFIRMED
SEQUENCE:0
TRANSP:OPAQUE
END:VEVENT
END:VCALENDAR
