BEGIN:VCALENDAR
VERSION:2.0
CALSCALE:GREGORIAN
BEGIN:VEVENT
DTSTAMP:20260421T163949
DTSTART:20260426T140000
DTEND:20260426T153000
SUMMARY:Sip  Pour Candle Making Workshop And POP UP Shop! At Red Dirt Cellars
DESCRIPTION:Event Info: https://www.localwineevents.com/view/event/sip-pour-candle-making-workshop-and-pop-up-shop-at-red-dirt-cellars/999713
LOCATION:Red Dirt Cellars -- 401 South Main Street Grapevine, TX 76051
STATUS:CONFIRMED
SEQUENCE:0
TRANSP:OPAQUE
END:VEVENT
END:VCALENDAR
