BEGIN:VCALENDAR
VERSION:2.0
CALSCALE:GREGORIAN
BEGIN:VEVENT
DTSTAMP:20260420T090655
DTSTART:20260426T130000
DTEND:20260426T150000
SUMMARY:Make Pasta With Chef Beau - Pasta Making Cooking Class In Columbus | Classpop!
DESCRIPTION:Event Info: https://www.localwineevents.com/view/event/make-pasta-with-chef-beau---pasta-making-cooking-class-in-columbus-classpop/999703
LOCATION:Good Vibes Winery -- 2 S State St, Westerville Columbus, OH 43081
STATUS:CONFIRMED
SEQUENCE:0
TRANSP:OPAQUE
END:VEVENT
END:VCALENDAR
