BEGIN:VCALENDAR
VERSION:2.0
CALSCALE:GREGORIAN
BEGIN:VEVENT
DTSTAMP:20260421T163950
DTSTART:20260426T183000
DTEND:20260426T203000
SUMMARY:A Night In New Orleans: A Culinary Journey With Chef Kenneth Temple
DESCRIPTION:Event Info: https://www.localwineevents.com/view/event/a-night-in-new-orleans-a-culinary-journey-with-chef-kenneth-temple/999699
LOCATION:Central Market Dallas Lovers Lane -- 5750 East Lovers Lane Dallas, TX 75206
STATUS:CONFIRMED
SEQUENCE:0
TRANSP:OPAQUE
END:VEVENT
END:VCALENDAR
