BEGIN:VCALENDAR
VERSION:2.0
CALSCALE:GREGORIAN
BEGIN:VEVENT
DTSTAMP:20260424T062102
DTSTART:20260507T100000
DTEND:20260507T160000
SUMMARY:Vino Nobile Di Montepulciano - San Franciscio
DESCRIPTION:Event Info: https://www.localwineevents.com/view/event/vino-nobile-di-montepulciano---san-franciscio/999698
LOCATION:Fairmont Hotel -- 950 Mason St San Francisco, California 94108
STATUS:CONFIRMED
SEQUENCE:0
TRANSP:OPAQUE
END:VEVENT
END:VCALENDAR
