BEGIN:VCALENDAR
VERSION:2.0
CALSCALE:GREGORIAN
BEGIN:VEVENT
DTSTAMP:20260421T132431
DTSTART:20260426T180000
DTEND:20260426T210000
SUMMARY:Vegas Unstripped 2026 - Las Vegas\' Premier Chef Driven Food Festival
DESCRIPTION:Event Info: https://www.localwineevents.com/view/event/vegas-unstripped-2026---las-vegas-premier-chef-driven-food-festival/999688
LOCATION:Palms Casino Resort -- 4321 West Flamingo Road Las Vegas, NV 89103
STATUS:CONFIRMED
SEQUENCE:0
TRANSP:OPAQUE
END:VEVENT
END:VCALENDAR
