BEGIN:VCALENDAR
VERSION:2.0
CALSCALE:GREGORIAN
BEGIN:VEVENT
DTSTAMP:20260421T064340
DTSTART:20260426T140000
DTEND:20260426T160000
SUMMARY:Cook Pad Thai That\'s Better Than Takeout - Cooking Class In Minneapolis | Classpop!
DESCRIPTION:Event Info: https://www.localwineevents.com/view/event/cook-pad-thai-thats-better-than-takeout---cooking-class-in-minneapolis-classpop/999685
LOCATION:Urban Forage Winery and Cider House -- 3016 E. Lake St. Minneapolis, MN 55402
STATUS:CONFIRMED
SEQUENCE:0
TRANSP:OPAQUE
END:VEVENT
END:VCALENDAR
