BEGIN:VCALENDAR
VERSION:2.0
CALSCALE:GREGORIAN
BEGIN:VEVENT
DTSTAMP:20260422T234621
DTSTART:20260426T171500
DTEND:20260426T201500
SUMMARY:Spanish-Style Tapas - Winter Garden
DESCRIPTION:Event Info: https://www.localwineevents.com/view/event/spanish-style-tapas---winter-garden/999683
LOCATION:The Ancient Olive Gourmet of Winter Garden -- 125 West Plant Street Winter Garden, FL 34787
STATUS:CONFIRMED
SEQUENCE:0
TRANSP:OPAQUE
END:VEVENT
END:VCALENDAR
