BEGIN:VCALENDAR
VERSION:2.0
CALSCALE:GREGORIAN
BEGIN:VEVENT
DTSTAMP:20260424T062058
DTSTART:20260426T140000
DTEND:20260426T160000
SUMMARY:Golden Sips: The Mead Making Experience
DESCRIPTION:Event Info: https://www.localwineevents.com/view/event/golden-sips-the-mead-making-experience/999677
LOCATION:Dle Vino, Marina Boulevard Suite C, Pittsburg, CA, USA -- 51 Marina Boulevard Pittsburg, CA 94565
STATUS:CONFIRMED
SEQUENCE:0
TRANSP:OPAQUE
END:VEVENT
END:VCALENDAR
