BEGIN:VCALENDAR
VERSION:2.0
CALSCALE:GREGORIAN
BEGIN:VEVENT
DTSTAMP:20260421T050932
DTSTART:20260426T130000
DTEND:20260426T160000
SUMMARY:Taste Of Easton
DESCRIPTION:Event Info: https://www.localwineevents.com/view/event/taste-of-easton/999676
LOCATION:Tidewater Inn -- 101 East Dover Street Easton, MD 21601
STATUS:CONFIRMED
SEQUENCE:0
TRANSP:OPAQUE
END:VEVENT
END:VCALENDAR
