BEGIN:VCALENDAR
VERSION:2.0
CALSCALE:GREGORIAN
BEGIN:VEVENT
DTSTAMP:20260422T194039
DTSTART:20260426T140000
DTEND:20260426T160000
SUMMARY:Paint  Pour At Natchez Hills Vineyard
DESCRIPTION:Event Info: https://www.localwineevents.com/view/event/paint-pour-at-natchez-hills-vineyard/999671
LOCATION:109 Overhead Bridge Rd -- 109 Overhead Bridge Road Hampshire, TN 38461
STATUS:CONFIRMED
SEQUENCE:0
TRANSP:OPAQUE
END:VEVENT
END:VCALENDAR
