BEGIN:VCALENDAR
VERSION:2.0
CALSCALE:GREGORIAN
BEGIN:VEVENT
DTSTAMP:20260420T045207
DTSTART:20260426T120000
DTEND:20260426T130000
SUMMARY:Elevated Wine Tastings
DESCRIPTION:Event Info: https://www.localwineevents.com/view/event/elevated-wine-tastings/999667
LOCATION:Carpenter Creek Cellars -- 11144 Jordan Road Remington, IN 47977
STATUS:CONFIRMED
SEQUENCE:0
TRANSP:OPAQUE
END:VEVENT
END:VCALENDAR
