BEGIN:VCALENDAR
VERSION:2.0
CALSCALE:GREGORIAN
BEGIN:VEVENT
DTSTAMP:20260421T162910
DTSTART:20260426T170000
DTEND:20260426T193000
SUMMARY:Signature Pasta Experience At JoLa Caf | Handmade Pasta + Shared Dinner
DESCRIPTION:Event Info: https://www.localwineevents.com/view/event/signature-pasta-experience-at-jola-caf-handmade-pasta-shared-dinner/999666
LOCATION:JoLa. Coffee-Bar-Kitchen -- 5915 South Corbett Avenue Portland, OR 97239
STATUS:CONFIRMED
SEQUENCE:0
TRANSP:OPAQUE
END:VEVENT
END:VCALENDAR
