BEGIN:VCALENDAR
VERSION:2.0
CALSCALE:GREGORIAN
BEGIN:VEVENT
DTSTAMP:20260424T062044
DTSTART:20260516T110000
DTEND:20260516T140000
SUMMARY:Set Sail Spring Release Party At Schramsberg
DESCRIPTION:Event Info: https://www.localwineevents.com/view/event/set-sail-spring-release-party-at-schramsberg/999643
LOCATION:Schramsberg Vineyards -- 1400 Schramsberg Road Calistoga, CA 94515
STATUS:CONFIRMED
SEQUENCE:0
TRANSP:OPAQUE
END:VEVENT
END:VCALENDAR
