BEGIN:VCALENDAR
VERSION:2.0
CALSCALE:GREGORIAN
BEGIN:VEVENT
DTSTAMP:20260420T175735
DTSTART:20260426T173000
DTEND:20260426T200000
SUMMARY:Winemaker\'s Dinner Feat. J. Dusi Wines
DESCRIPTION:Event Info: https://www.localwineevents.com/view/event/winemakers-dinner-feat-j-dusi-wines/999630
LOCATION:Cambria Pines Lodge -- 2905 Burton Drive Cambria, CA 93428
STATUS:CONFIRMED
SEQUENCE:0
TRANSP:OPAQUE
END:VEVENT
END:VCALENDAR
