BEGIN:VCALENDAR
VERSION:2.0
CALSCALE:GREGORIAN
BEGIN:VEVENT
DTSTAMP:20260419T122535
DTSTART:20260425T150000
DTEND:20260425T160000
SUMMARY:Make Your Own Chocolate Bars At Our Cacao Factory
DESCRIPTION:Event Info: https://www.localwineevents.com/view/event/make-your-own-chocolate-bars-at-our-cacao-factory/999604
LOCATION:1920 SW 8th St -- 1920 Southwest 8th Street Miami, FL 33135
STATUS:CONFIRMED
SEQUENCE:0
TRANSP:OPAQUE
END:VEVENT
END:VCALENDAR
