BEGIN:VCALENDAR
VERSION:2.0
CALSCALE:GREGORIAN
BEGIN:VEVENT
DTSTAMP:20260421T130142
DTSTART:20260425T120000
DTEND:20260425T180000
SUMMARY:The Rockwall/Heath Margarita Festival
DESCRIPTION:Event Info: https://www.localwineevents.com/view/event/the-rockwallheath-margarita-festival/999596
LOCATION:Standard Service - Heath -- 4240 Ridge Road Heath, TX 75032
STATUS:CONFIRMED
SEQUENCE:0
TRANSP:OPAQUE
END:VEVENT
END:VCALENDAR
