BEGIN:VCALENDAR
VERSION:2.0
CALSCALE:GREGORIAN
BEGIN:VEVENT
DTSTAMP:20260419T122534
DTSTART:20260425T180000
DTEND:20260425T220000
SUMMARY:Premium Spirits  Cigars Festival
DESCRIPTION:Event Info: https://www.localwineevents.com/view/event/premium-spirits-cigars-festival/999587
LOCATION:3932 NE 5th Ave -- 3932 Northeast 5th Avenue Oakland Park, FL 33334
STATUS:CONFIRMED
SEQUENCE:0
TRANSP:OPAQUE
END:VEVENT
END:VCALENDAR
