BEGIN:VCALENDAR
VERSION:2.0
CALSCALE:GREGORIAN
BEGIN:VEVENT
DTSTAMP:20260420T104141
DTSTART:20260425T110000
DTEND:20260425T123000
SUMMARY:Coffee Tasting Workshop
DESCRIPTION:Event Info: https://www.localwineevents.com/view/event/coffee-tasting-workshop/999584
LOCATION:Ferris Coffee  Nut Co. -- 839 Seward Ave Grand Rapids, MI 49507
STATUS:CONFIRMED
SEQUENCE:0
TRANSP:OPAQUE
END:VEVENT
END:VCALENDAR
