BEGIN:VCALENDAR
VERSION:2.0
CALSCALE:GREGORIAN
BEGIN:VEVENT
DTSTAMP:20260419T122603
DTSTART:20260425T110000
DTEND:20260425T150000
SUMMARY:International Food Fest: A World Of Flavors
DESCRIPTION:Event Info: https://www.localwineevents.com/view/event/international-food-fest-a-world-of-flavors/999579
LOCATION:3932 NE 5th Ave -- 3932 Northeast 5th Avenue Oakland Park, FL 33334
STATUS:CONFIRMED
SEQUENCE:0
TRANSP:OPAQUE
END:VEVENT
END:VCALENDAR
