BEGIN:VCALENDAR
VERSION:2.0
CALSCALE:GREGORIAN
BEGIN:VEVENT
DTSTAMP:20260420T143633
DTSTART:20260425T100000
DTEND:20260425T130000
SUMMARY:Cheesemaking - Swiss Cheese
DESCRIPTION:Event Info: https://www.localwineevents.com/view/event/cheesemaking---swiss-cheese/999574
LOCATION:4932 Shady Leaf Way, Sacramento, CA 95838-1843, United States -- 4932 SHADY LEAF WAY Sacramento, CA 95838
STATUS:CONFIRMED
SEQUENCE:0
TRANSP:OPAQUE
END:VEVENT
END:VCALENDAR
