BEGIN:VCALENDAR
VERSION:2.0
CALSCALE:GREGORIAN
BEGIN:VEVENT
DTSTAMP:20260420T104152
DTSTART:20260425T140000
DTEND:20260425T170000
SUMMARY:Chocolate Tasting Party
DESCRIPTION:Event Info: https://www.localwineevents.com/view/event/chocolate-tasting-party/999567
LOCATION:Onca Health -- 2922 Fuller Avenue Northeast Grand Rapids, MI 49505
STATUS:CONFIRMED
SEQUENCE:0
TRANSP:OPAQUE
END:VEVENT
END:VCALENDAR
