BEGIN:VCALENDAR
VERSION:2.0
CALSCALE:GREGORIAN
BEGIN:VEVENT
DTSTAMP:20260421T050851
DTSTART:20260425T170000
DTEND:20260425T190000
SUMMARY:Whiskey  Waffles
DESCRIPTION:Event Info: https://www.localwineevents.com/view/event/whiskey-waffles/999563
LOCATION:2780 E Oakland Park Blvd -- 2780 East Oakland Park Boulevard Fort Lauderdale, FL 33306
STATUS:CONFIRMED
SEQUENCE:0
TRANSP:OPAQUE
END:VEVENT
END:VCALENDAR
